BEGIN:VCALENDAR
VERSION:2.0
PRODID:-//Digital Skills Mastery - ECPv6.15.20//NONSGML v1.0//EN
CALSCALE:GREGORIAN
METHOD:PUBLISH
X-WR-CALNAME:Digital Skills Mastery
X-ORIGINAL-URL:https://digitalskillsmastery.com
X-WR-CALDESC:Events for Digital Skills Mastery
REFRESH-INTERVAL;VALUE=DURATION:PT1H
X-Robots-Tag:noindex
X-PUBLISHED-TTL:PT1H
BEGIN:VTIMEZONE
TZID:Europe/Paris
BEGIN:DAYLIGHT
TZOFFSETFROM:+0100
TZOFFSETTO:+0200
TZNAME:CEST
DTSTART:20250330T010000
END:DAYLIGHT
BEGIN:STANDARD
TZOFFSETFROM:+0200
TZOFFSETTO:+0100
TZNAME:CET
DTSTART:20251026T010000
END:STANDARD
BEGIN:DAYLIGHT
TZOFFSETFROM:+0100
TZOFFSETTO:+0200
TZNAME:CEST
DTSTART:20260329T010000
END:DAYLIGHT
BEGIN:STANDARD
TZOFFSETFROM:+0200
TZOFFSETTO:+0100
TZNAME:CET
DTSTART:20261025T010000
END:STANDARD
BEGIN:DAYLIGHT
TZOFFSETFROM:+0100
TZOFFSETTO:+0200
TZNAME:CEST
DTSTART:20270328T010000
END:DAYLIGHT
BEGIN:STANDARD
TZOFFSETFROM:+0200
TZOFFSETTO:+0100
TZNAME:CET
DTSTART:20271031T010000
END:STANDARD
END:VTIMEZONE
BEGIN:VEVENT
DTSTART;TZID=Europe/Paris:20260505T110000
DTEND;TZID=Europe/Paris:20260623T120000
DTSTAMP:20260420T165715
CREATED:20260420T142739Z
LAST-MODIFIED:20260420T143015Z
UID:16777-1777978800-1782216000@digitalskillsmastery.com
SUMMARY:Diageo Intro Session
DESCRIPTION:Intro Sessions
URL:https://digitalskillsmastery.com/event/diageo-intro-session/
LOCATION:xyz\, India
END:VEVENT
END:VCALENDAR